View In:
ArcGIS JavaScript
ArcGIS Online Map Viewer
ArcGIS Earth
ArcMap
View Footprint In:
ArcGIS Online Map Viewer
Service Description: USPS Reference Maps - Image Service
Name: Images/PostOffice_Maps
Description: USPS Reference Maps - Image Service
Single Fused Map Cache: false
Extent:
XMin: 522864.1651621458
YMin: 140674.28151063423
XMax: 527798.4895231458
YMax: 143740.58283063423
Spatial Reference: 2881
(2881)
Initial Extent:
XMin: 522864.1651621458
YMin: 140674.28151063423
XMax: 527798.4895231458
YMax: 143740.58283063423
Spatial Reference: 2881
(2881)
Full Extent:
XMin: 522864.1651621458
YMin: 140674.28151063423
XMax: 527798.4895231458
YMax: 143740.58283063423
Spatial Reference: 2881
(2881)
Pixel Size X: 1.3448690000000096
Pixel Size Y: 1.3448689999999994
Band Count: 1
Pixel Type: U8
RasterFunction Infos: {"rasterFunctionInfos": [{
"name": "None",
"description": "",
"help": ""
}]}
Mensuration Capabilities: Basic
Has Histograms: true
Has Colormap: false
Has Multi Dimensions : false
Rendering Rule:
Min Scale: 0
Max Scale: 0
Copyright Text:
Service Data Type: esriImageServiceDataTypeGeneric
Min Values: 0
Max Values: 255
Mean Values: 222.1268260386716
Standard Deviation Values: 68.18488775054445
Object ID Field:
Fields:
None
Default Mosaic Method: Center
Allowed Mosaic Methods:
SortField:
SortValue: null
Mosaic Operator: First
Default Compression Quality: 75
Default Resampling Method: Bilinear
Max Record Count: null
Max Image Height: 4100
Max Image Width: 15000
Max Download Image Count: null
Max Mosaic Image Count: null
Allow Raster Function: true
Allow Copy: null
Allow Analysis: null
Allow Compute TiePoints: false
Supports Statistics: false
Supports Advanced Queries: false
Use StandardizedQueries: true
Raster Type Infos:
Name: Raster Dataset
Description: Supports all ArcGIS Raster Datasets
Help:
Has Raster Attribute Table: false
Edit Fields Info: null
Ownership Based AccessControl For Rasters: null
Child Resources:
Info
Histograms
Key Properties
Legend
Raster Function Infos
Supported Operations:
Export Image
Identify
Measure
Compute Histograms
Compute Statistics Histograms
Get Samples
Compute Class Statistics
Query Boundary
Compute Pixel Location
Validate
Project