View In:
ArcGIS JavaScript
ArcGIS Online Map Viewer
ArcGIS Earth
ArcMap
View Footprint In:
ArcGIS Online Map Viewer
Service Description: Images/Coastal_Depth_Grid_Irma
Name: Images/Coastal_Depth_Grid_Irma
Description:
Single Fused Map Cache: false
Extent:
XMin: -81.81586816528358
YMin: 24.544074043782132
XMax: -80.24213357346157
YMax: 25.355123438826134
Spatial Reference: 4269
(4269)
Initial Extent:
XMin: -81.81586816528358
YMin: 24.544074043782132
XMax: -80.24213357346157
YMax: 25.355123438826134
Spatial Reference: 4269
(4269)
Full Extent:
XMin: -81.81586816528358
YMin: 24.544074043782132
XMax: -80.24213357346157
YMax: 25.355123438826134
Spatial Reference: 4269
(4269)
Pixel Size X: 3.086419800000006E-5
Pixel Size Y: 3.0864198000000064E-5
Band Count: 1
Pixel Type: F32
RasterFunction Infos: {"rasterFunctionInfos": [{
"name": "None",
"description": "",
"help": ""
}]}
Mensuration Capabilities: Basic
Has Histograms: true
Has Colormap: false
Has Multi Dimensions : false
Rendering Rule:
Min Scale: 0
Max Scale: 0
Copyright Text:
Service Data Type: esriImageServiceDataTypeGeneric
Min Values: 4.76837158203125E-7
Max Values: 16.152219772338867
Mean Values: 5.676035562212291
Standard Deviation Values: 2.1865141208960277
Object ID Field:
Fields:
None
Default Mosaic Method: Center
Allowed Mosaic Methods:
SortField:
SortValue: null
Mosaic Operator: First
Default Compression Quality: 75
Default Resampling Method: Bilinear
Max Record Count: null
Max Image Height: 4100
Max Image Width: 15000
Max Download Image Count: null
Max Mosaic Image Count: null
Allow Raster Function: true
Allow Copy: true
Allow Analysis: true
Allow Compute TiePoints: false
Supports Statistics: false
Supports Advanced Queries: false
Use StandardizedQueries: true
Raster Type Infos:
Name: Raster Dataset
Description: Supports all ArcGIS Raster Datasets
Help:
Has Raster Attribute Table: false
Edit Fields Info: null
Ownership Based AccessControl For Rasters: null
Child Resources:
Info
Histograms
Statistics
Key Properties
Legend
Raster Function Infos
Supported Operations:
Export Image
Identify
Measure
Compute Histograms
Compute Statistics Histograms
Get Samples
Compute Class Statistics
Query Boundary
Compute Pixel Location
Validate
Project